BEGIN:VCALENDAR
VERSION:2.0
PRODID:-//Visit Lake City MN - ECPv6.15.20//NONSGML v1.0//EN
CALSCALE:GREGORIAN
METHOD:PUBLISH
X-ORIGINAL-URL:https://www.visitlakecity.org
X-WR-CALDESC:Events for Visit Lake City MN
REFRESH-INTERVAL;VALUE=DURATION:PT1H
X-Robots-Tag:noindex
X-PUBLISHED-TTL:PT1H
BEGIN:VTIMEZONE
TZID:UTC
BEGIN:STANDARD
TZOFFSETFROM:+0000
TZOFFSETTO:+0000
TZNAME:UTC
DTSTART:20200101T000000
END:STANDARD
END:VTIMEZONE
BEGIN:VEVENT
DTSTART;TZID=UTC:20211204T090000
DTEND;TZID=UTC:20211204T150000
DTSTAMP:20260419T092915
CREATED:20211111T205641Z
LAST-MODIFIED:20211124T035904Z
UID:2561-1638608400-1638630000@www.visitlakecity.org
SUMMARY:Holiday Fair
DESCRIPTION:The Lake City Sportsman’s Club resumes its annual Holiday Fair tradition on Saturday\, December 4\, 2021! \nAll your favorite holiday treats\, craft booths\, and gently used holiday decor and cookbooks. Santa will be making an appearance from 10:30-Noon\, and a scrumptious lunch will be served from 11-1.
URL:https://www.visitlakecity.org/event/holiday-fair/
LOCATION:Lake City Sportsman’s Club\, 2200 S Oak St.\, Lake City\, MN\, 55041
ATTACH;FMTTYPE=image/jpeg:https://www.visitlakecity.org/wp-content/uploads/2021/09/HolkidayFair_santa.jpg
END:VEVENT
END:VCALENDAR