BEGIN:VCALENDAR
VERSION:2.0
PRODID:-//Visit Lake City MN - ECPv6.15.20//NONSGML v1.0//EN
CALSCALE:GREGORIAN
METHOD:PUBLISH
X-WR-CALNAME:Visit Lake City MN
X-ORIGINAL-URL:https://www.visitlakecity.org
X-WR-CALDESC:Events for Visit Lake City MN
REFRESH-INTERVAL;VALUE=DURATION:PT1H
X-Robots-Tag:noindex
X-PUBLISHED-TTL:PT1H
BEGIN:VTIMEZONE
TZID:America/Chicago
BEGIN:DAYLIGHT
TZOFFSETFROM:-0600
TZOFFSETTO:-0500
TZNAME:CDT
DTSTART:20200308T080000
END:DAYLIGHT
BEGIN:STANDARD
TZOFFSETFROM:-0500
TZOFFSETTO:-0600
TZNAME:CST
DTSTART:20201101T070000
END:STANDARD
BEGIN:DAYLIGHT
TZOFFSETFROM:-0600
TZOFFSETTO:-0500
TZNAME:CDT
DTSTART:20210314T080000
END:DAYLIGHT
BEGIN:STANDARD
TZOFFSETFROM:-0500
TZOFFSETTO:-0600
TZNAME:CST
DTSTART:20211107T070000
END:STANDARD
BEGIN:DAYLIGHT
TZOFFSETFROM:-0600
TZOFFSETTO:-0500
TZNAME:CDT
DTSTART:20220313T080000
END:DAYLIGHT
BEGIN:STANDARD
TZOFFSETFROM:-0500
TZOFFSETTO:-0600
TZNAME:CST
DTSTART:20221106T070000
END:STANDARD
END:VTIMEZONE
BEGIN:VEVENT
DTSTART;VALUE=DATE:20211218
DTEND;VALUE=DATE:20211219
DTSTAMP:20260419T092907
CREATED:20211206T182005Z
LAST-MODIFIED:20211206T182010Z
UID:5098-1639785600-1639871999@www.visitlakecity.org
SUMMARY:Christmas Party at Port 104
DESCRIPTION:Live music! Meat Raffle! Ugly Sweater Party! Bingo! Holy moly\, this event has it all!!!\nPort 104 invites folks to this all day extravaganza on Saturday\, December 18th beginning at 2pm and going all the way to 12:30am. See you there!
URL:https://www.visitlakecity.org/event/christmas-party-at-port-104/
LOCATION:Port 104\, 104 N. Washington St.\, Lake City\, MN\, 55041
ATTACH;FMTTYPE=image/jpeg:https://www.visitlakecity.org/wp-content/uploads/2021/12/p104xmas-e1638814792342.jpg
END:VEVENT
END:VCALENDAR