BEGIN:VCALENDAR
VERSION:2.0
PRODID:-//Visit Lake City MN - ECPv6.15.20//NONSGML v1.0//EN
CALSCALE:GREGORIAN
METHOD:PUBLISH
X-WR-CALNAME:Visit Lake City MN
X-ORIGINAL-URL:https://www.visitlakecity.org
X-WR-CALDESC:Events for Visit Lake City MN
REFRESH-INTERVAL;VALUE=DURATION:PT1H
X-Robots-Tag:noindex
X-PUBLISHED-TTL:PT1H
BEGIN:VTIMEZONE
TZID:America/Chicago
BEGIN:DAYLIGHT
TZOFFSETFROM:-0600
TZOFFSETTO:-0500
TZNAME:CDT
DTSTART:20210314T080000
END:DAYLIGHT
BEGIN:STANDARD
TZOFFSETFROM:-0500
TZOFFSETTO:-0600
TZNAME:CST
DTSTART:20211107T070000
END:STANDARD
BEGIN:DAYLIGHT
TZOFFSETFROM:-0600
TZOFFSETTO:-0500
TZNAME:CDT
DTSTART:20220313T080000
END:DAYLIGHT
BEGIN:STANDARD
TZOFFSETFROM:-0500
TZOFFSETTO:-0600
TZNAME:CST
DTSTART:20221106T070000
END:STANDARD
BEGIN:DAYLIGHT
TZOFFSETFROM:-0600
TZOFFSETTO:-0500
TZNAME:CDT
DTSTART:20230312T080000
END:DAYLIGHT
BEGIN:STANDARD
TZOFFSETFROM:-0500
TZOFFSETTO:-0600
TZNAME:CST
DTSTART:20231105T070000
END:STANDARD
END:VTIMEZONE
BEGIN:VEVENT
DTSTART;TZID=America/Chicago:20220122T120000
DTEND;TZID=America/Chicago:20220227T160000
DTSTAMP:20260419T140431
CREATED:20211220T153413Z
LAST-MODIFIED:20211220T153414Z
UID:5268-1642852800-1645977600@www.visitlakecity.org
SUMMARY:Exhibit: Snapshot of Lake City
DESCRIPTION:Opens January 22\, 2022 Saturdays 12-4PM and Sundays 1-4PM. This photography exhibit encapsulates Lake City in the current time. Please come enjoy this collaboration of exhibits from the Lake City Photography Club.    \nThis is only the beginning of Lake City’s 150th Celebrations.   \nReception will be held Sunday 1/23/22 from 1-4 PM with a photography club panel to lead discussion about the photo exhibit.  Exhibit will close 2/27/22.
URL:https://www.visitlakecity.org/event/exhibit-snapshot-of-lake-city/
LOCATION:Lake City Area Arts\, 105 W Center St.\, Lake City\, MN\, 55041
ATTACH;FMTTYPE=image/jpeg:https://www.visitlakecity.org/wp-content/uploads/2021/12/swan-jewelery-e1640014419781.jpg
ORGANIZER;CN="Lake City Area Arts":MAILTO:lakecityareaarts@gmail.com
END:VEVENT
BEGIN:VEVENT
DTSTART;VALUE=DATE:20220205
DTEND;VALUE=DATE:20220227
DTSTAMP:20260419T140431
CREATED:20220117T153839Z
LAST-MODIFIED:20220117T162706Z
UID:5385-1644019200-1645919999@www.visitlakecity.org
SUMMARY:WinterStüff!
DESCRIPTION:Ok\, your first question is probably\, “What the heck does WinterStüff mean???”\nWell\, in a sense\, WinterStüff is a state of mind as much as it is a made up word!\nIt’s a state of mind that says\, “get outside and enjoy the Minnesota winter with other folks who share similar interests and have a great time doing so!”\nThat’s why Lake City invites all to come visit us for 4 February Saturdays of outdoor fun\, bonfires\, ice golf\, food and beverages\, and FUN\, FUN\, FUN! \n \nSaturday Feb 5\n11am-2pm Snowshoe/Hike in Hok Si La Park\n2-5pm Bonfire and Ice Golf at Kelly’s Lake House \nSaturday Feb 12\n11am-2pm Fired Up! Fat Tire Ride at the Jewel*\n2-5pm Bonfire and Ice Golf at Kelly’s Lake House \nSaturday Feb 19\n11am-6pm Sportsman’s Club Ice Fishing Contest (and festivities)\n2-5pm Bonfire and Ice Golf at Kelly’s Lake House \nSaturday Feb 26\n11am-2pm CC Ski/Snowshoe/Sled in Frontenac State Park\n2-5pm Bonfire and Ice Golf at Kelly’s Lake House \n*Participants must register at the Jewel Clubhouse before riding\n**Participants must obtain state park vehicle permit \nAll activities are weather permitting. No equipment provided. Participate at your own risk.
URL:https://www.visitlakecity.org/event/winterstuff/
LOCATION:Multiple Venues
ATTACH;FMTTYPE=image/jpeg:https://www.visitlakecity.org/wp-content/uploads/2022/01/Winterstuff_Flyer-copy-e1642433537351.jpeg
END:VEVENT
BEGIN:VEVENT
DTSTART;VALUE=DATE:20220212
DTEND;VALUE=DATE:20220213
DTSTAMP:20260419T140431
CREATED:20220118T151720Z
LAST-MODIFIED:20220118T151746Z
UID:5407-1644624000-1644710399@www.visitlakecity.org
SUMMARY:Winter Fun in Frontenac
DESCRIPTION:Ready for some winter family fun in beautiful Frontenac???\nJust a couple minutes north of Lake City\, On February 12th\, The Frontenac Sportsman Club will hold its 38th annual ice fishing contest from 1-4pm\, and Frontenac State Park will host a Candle Light Ski / Walk from 5:00 to 8:00pm.
URL:https://www.visitlakecity.org/event/5407/
LOCATION:Frontenac Sportsman’s Club\, 30301 Territorial Road\, Lake City\, 55041\, United States
ATTACH;FMTTYPE=image/jpeg:https://www.visitlakecity.org/wp-content/uploads/2022/01/Frontenac-sportsman-e1642518999872.jpg
END:VEVENT
BEGIN:VEVENT
DTSTART;TZID=America/Chicago:20220212T110000
DTEND;TZID=America/Chicago:20220212T140000
DTSTAMP:20260419T140431
CREATED:20220118T152937Z
LAST-MODIFIED:20220208T224121Z
UID:5413-1644663600-1644674400@www.visitlakecity.org
SUMMARY:Fired Up! Fat Tire Ride
DESCRIPTION:Join us on February 12th from 10:30-2pm for a Fat Tire Bike ride on a fantastic groomed course!\nThis tour has a flexible course\, anywhere between 3-18 miles (or even more if you’re up for it!). The tour is at the Jewel Golf Course\, with 6 miles of groomed trail over the golf cart paths. There are also multiple miles of trail in some neighboring city property and decommissioned mine.\nThe course will be open from 11 am – 2 pm\, ride as much or as little as you like!\nThe event is free this year but a waiver must be signed at the Jewel Clubhouse before you can ride.\nA staggered start will begin at 10:30 to help maintain the integrity of the groomed trails.
URL:https://www.visitlakecity.org/event/fired-up-fat-tire-ride/
LOCATION:Jewel Golf Course\, 9203\, 1900 Clubhouse Dr\, Lake City\, MN\, United States
ATTACH;FMTTYPE=image/jpeg:https://www.visitlakecity.org/wp-content/uploads/2022/01/fat.jpg
ORGANIZER;CN="Lake City Chamber of Commerce":MAILTO:chamberevents@lakecity.org
END:VEVENT
END:VCALENDAR