BEGIN:VCALENDAR
VERSION:2.0
PRODID:-//Visit Lake City MN - ECPv6.15.20//NONSGML v1.0//EN
CALSCALE:GREGORIAN
METHOD:PUBLISH
X-WR-CALNAME:Visit Lake City MN
X-ORIGINAL-URL:https://www.visitlakecity.org
X-WR-CALDESC:Events for Visit Lake City MN
REFRESH-INTERVAL;VALUE=DURATION:PT1H
X-Robots-Tag:noindex
X-PUBLISHED-TTL:PT1H
BEGIN:VTIMEZONE
TZID:America/Chicago
BEGIN:DAYLIGHT
TZOFFSETFROM:-0600
TZOFFSETTO:-0500
TZNAME:CDT
DTSTART:20210314T080000
END:DAYLIGHT
BEGIN:STANDARD
TZOFFSETFROM:-0500
TZOFFSETTO:-0600
TZNAME:CST
DTSTART:20211107T070000
END:STANDARD
BEGIN:DAYLIGHT
TZOFFSETFROM:-0600
TZOFFSETTO:-0500
TZNAME:CDT
DTSTART:20220313T080000
END:DAYLIGHT
BEGIN:STANDARD
TZOFFSETFROM:-0500
TZOFFSETTO:-0600
TZNAME:CST
DTSTART:20221106T070000
END:STANDARD
BEGIN:DAYLIGHT
TZOFFSETFROM:-0600
TZOFFSETTO:-0500
TZNAME:CDT
DTSTART:20230312T080000
END:DAYLIGHT
BEGIN:STANDARD
TZOFFSETFROM:-0500
TZOFFSETTO:-0600
TZNAME:CST
DTSTART:20231105T070000
END:STANDARD
END:VTIMEZONE
BEGIN:VEVENT
DTSTART;TZID=America/Chicago:20220305T190000
DTEND;TZID=America/Chicago:20220305T210000
DTSTAMP:20260419T124718
CREATED:20220223T132444Z
LAST-MODIFIED:20220228T180506Z
UID:5583-1646506800-1646514000@www.visitlakecity.org
SUMMARY:Brothers of the Brush\, Sisters of the Swish
DESCRIPTION:The Lake City has a contest for our bearded brothers and glamorous gals!\nThe contest that started on Nov. 21\, 2021 culminates on March 5\, 2022 7pm at Port 104!\nSee the winners of the beard contests strut their van dykes\, mutton chops\, Abe Lincolns and more! Check out the hair-dos like the Gibson Girl\, Victorian Mullet\, and Beehive!
URL:https://www.visitlakecity.org/event/brothers-of-the-brush-sisters-of-the-swish/
LOCATION:Port 104\, 104 N. Washington St.\, Lake City\, MN\, 55041
ATTACH;FMTTYPE=image/png:https://www.visitlakecity.org/wp-content/uploads/2022/02/Screen-Shot-2022-02-23-at-7.17.49-AM.png
END:VEVENT
END:VCALENDAR