BEGIN:VCALENDAR
VERSION:2.0
PRODID:-//Visit Lake City MN - ECPv6.15.20//NONSGML v1.0//EN
CALSCALE:GREGORIAN
METHOD:PUBLISH
X-WR-CALNAME:Visit Lake City MN
X-ORIGINAL-URL:https://www.visitlakecity.org
X-WR-CALDESC:Events for Visit Lake City MN
REFRESH-INTERVAL;VALUE=DURATION:PT1H
X-Robots-Tag:noindex
X-PUBLISHED-TTL:PT1H
BEGIN:VTIMEZONE
TZID:America/Chicago
BEGIN:DAYLIGHT
TZOFFSETFROM:-0600
TZOFFSETTO:-0500
TZNAME:CDT
DTSTART:20210314T080000
END:DAYLIGHT
BEGIN:STANDARD
TZOFFSETFROM:-0500
TZOFFSETTO:-0600
TZNAME:CST
DTSTART:20211107T070000
END:STANDARD
BEGIN:DAYLIGHT
TZOFFSETFROM:-0600
TZOFFSETTO:-0500
TZNAME:CDT
DTSTART:20220313T080000
END:DAYLIGHT
BEGIN:STANDARD
TZOFFSETFROM:-0500
TZOFFSETTO:-0600
TZNAME:CST
DTSTART:20221106T070000
END:STANDARD
BEGIN:DAYLIGHT
TZOFFSETFROM:-0600
TZOFFSETTO:-0500
TZNAME:CDT
DTSTART:20230312T080000
END:DAYLIGHT
BEGIN:STANDARD
TZOFFSETFROM:-0500
TZOFFSETTO:-0600
TZNAME:CST
DTSTART:20231105T070000
END:STANDARD
END:VTIMEZONE
BEGIN:VEVENT
DTSTART;TZID=America/Chicago:20220312T120000
DTEND;TZID=America/Chicago:20220410T170000
DTSTAMP:20260419T142754
CREATED:20220311T115204Z
LAST-MODIFIED:20220311T115204Z
UID:5699-1647086400-1649610000@www.visitlakecity.org
SUMMARY:Homebody Exhibit at Lake City Area Arts
DESCRIPTION:Our next visual art show\, Homebody\, is a collaboration the Lake City Historical Society (LCHS) and the Woman’s Club of Lake City (WCLC) and will features two artists\, Nicole Havekost and Jessica Kitzman. The exhibition will run from March 12–April 10\, with a closing reception and meet the artists on Sunday\, April 10.  \nJessica Kitzman is an artist and art teacher living and working in Minneapolis\, MN. Jessica holds a BFA from the University of Iowa and an MAT from the School of Visual Arts in New York City. Primarily working in textiles and collage\, her studio practice centers around the deconstruction of domestic relics and other found material as a mode of understanding inherited systems of growth\, power\, and identity. Jessica’s practice is rooted in play and reinvention\, a natural act of resistance\, resilience\, and joy. \nNicole Havekost is an artist living in Rochester\, Minnesota. Her first museum exhibition “Chthonic” was presented as part of the Minnesota Artist Exhibition Program at the Minneapolis Institute of Art in November\, 2020. Havekost has exhibited extensively throughout the United States in both solo and group exhibitions. She is a 2020\, 2018 and 2013 Minnesota State Arts Board Artist Initiative grant recipient. She is a long-time educator\, teaching at St. Mary’s University\, Winona State University and Rochester Community and Technical College in Minnesota as well as small liberal arts colleges in Southeast Michigan. She is a graduate of the Rhode Island School of Design with a BFA in Printmaking. She also earned her MFA in Printmaking at the University of New Mexico. Havekost did not realize she was a sculptor\, and now considers herself a recovering printmaker. \nMarch 26th at 1PM Please join us for “Amazing Woman” Focus Group.\nHosted by LCAA and featuring Woman’s Club and Lake City Historical Society. Learn about Girl Scouts and Campfire Girls of the 1930\, Woman’s Club\, Poetry and some of Lake City’s Amazing Women. Come and celebrate women! \n*Do you have an amazing woman you wish to recognize? If so\, we would love to hear from you. We welcome submissions from current and past Lake City residents\, or if there is a tie to Lake City (l.e. works\, attends school or church in Lake City) You can submit information with a form or a separate piece of paper and submit to WCLC at wcoflc@gmail.com or can be dropped off at the Lake City Library. You can get an electronic version of the form by emailing lakecityareaarts@gmail.com. Submissions are due March 10th\, 2022. Submission will show on a power point during the “Homebody” exhibit.
URL:https://www.visitlakecity.org/event/homebody-exhibit-at-lake-city-area-arts/
LOCATION:Lake City Area Arts\, 105 W Center St.\, Lake City\, MN\, 55041
ATTACH;FMTTYPE=image/png:https://www.visitlakecity.org/wp-content/uploads/2021/11/arts-logo.png
ORGANIZER;CN="Lake City Area Arts":MAILTO:lakecityareaarts@gmail.com
END:VEVENT
BEGIN:VEVENT
DTSTART;TZID=America/Chicago:20220315T190000
DTEND;TZID=America/Chicago:20220319T090000
DTSTAMP:20260419T142754
CREATED:20220224T153745Z
LAST-MODIFIED:20220224T153746Z
UID:5601-1647370800-1647680400@www.visitlakecity.org
SUMMARY:World Walleye Championship on TV
DESCRIPTION:Most of the time we post events to let you know about happenings in Lake City\, well\, this one is to let you know that Lake City will be happening nationally\, when the Pursuit Channel airs the 2021 World Walleye Championship the week of 3/15! Witness Lake City Walleye fishing in all its beautiful autumn glory on Tuesday – Mar 15 at 8:00pm ET\,  Tuesday – Mar 15 at 11:00pm ET\,  Friday – Mar 18 at 12:00pm ET\, and Saturday – Mar 19 at 8:00am ET.\nCan’t wait until March! Check out the program on the Outdoor Action website here!  \n….Then\, start planning your trip to Lake City to find out why we were chosen to host this prestigious tournament! \nWant to know more about outdoor activities including fishing in the Lake City area? Click here!
URL:https://www.visitlakecity.org/event/world-walleye-championship-on-tv/
LOCATION:MN
ATTACH;FMTTYPE=image/jpeg:https://www.visitlakecity.org/wp-content/uploads/2022/02/walleye-guys-e1645717028997.jpeg
END:VEVENT
END:VCALENDAR