BEGIN:VCALENDAR
VERSION:2.0
PRODID:-//Visit Lake City MN - ECPv6.15.20//NONSGML v1.0//EN
CALSCALE:GREGORIAN
METHOD:PUBLISH
X-ORIGINAL-URL:https://www.visitlakecity.org
X-WR-CALDESC:Events for Visit Lake City MN
REFRESH-INTERVAL;VALUE=DURATION:PT1H
X-Robots-Tag:noindex
X-PUBLISHED-TTL:PT1H
BEGIN:VTIMEZONE
TZID:America/Chicago
BEGIN:DAYLIGHT
TZOFFSETFROM:-0600
TZOFFSETTO:-0500
TZNAME:CDT
DTSTART:20210314T080000
END:DAYLIGHT
BEGIN:STANDARD
TZOFFSETFROM:-0500
TZOFFSETTO:-0600
TZNAME:CST
DTSTART:20211107T070000
END:STANDARD
BEGIN:DAYLIGHT
TZOFFSETFROM:-0600
TZOFFSETTO:-0500
TZNAME:CDT
DTSTART:20220313T080000
END:DAYLIGHT
BEGIN:STANDARD
TZOFFSETFROM:-0500
TZOFFSETTO:-0600
TZNAME:CST
DTSTART:20221106T070000
END:STANDARD
BEGIN:DAYLIGHT
TZOFFSETFROM:-0600
TZOFFSETTO:-0500
TZNAME:CDT
DTSTART:20230312T080000
END:DAYLIGHT
BEGIN:STANDARD
TZOFFSETFROM:-0500
TZOFFSETTO:-0600
TZNAME:CST
DTSTART:20231105T070000
END:STANDARD
END:VTIMEZONE
BEGIN:VEVENT
DTSTART;TZID=America/Chicago:20220416T110000
DTEND;TZID=America/Chicago:20220416T140000
DTSTAMP:20260419T161404
CREATED:20220416T160004Z
LAST-MODIFIED:20220416T160004Z
UID:5889-1650106800-1650117600@www.visitlakecity.org
SUMMARY:Easter Egg Hunt
DESCRIPTION:Be sure to join us on Saturday\, April 16th for Lake City’s 1st Annual Easter Egg Hunt sponsored the Lake City MN 150th Celebration and The Three Little Men.\n\n\nThe fun starts at 11am at the Lincoln High School Band Field. Enjoy a free lunch provided by Lake City Fresh Market\, a visit with the Easter Bunny\, and an Easter Egg Hunt starting at 11:15am for all children up to 10 years of age.\n\n\nCome out and enjoy this family friendly activity that your children are sure to remember for years to come.
URL:https://www.visitlakecity.org/event/easter-egg-hunt/
LOCATION:Lincoln High School Band Field\, Lake City\, MN\, 55041\, United States
ATTACH;FMTTYPE=image/jpeg:https://www.visitlakecity.org/wp-content/uploads/2022/04/egg.jpeg
END:VEVENT
END:VCALENDAR