BEGIN:VCALENDAR
VERSION:2.0
PRODID:-//Visit Lake City MN - ECPv6.15.20//NONSGML v1.0//EN
CALSCALE:GREGORIAN
METHOD:PUBLISH
X-WR-CALNAME:Visit Lake City MN
X-ORIGINAL-URL:https://www.visitlakecity.org
X-WR-CALDESC:Events for Visit Lake City MN
REFRESH-INTERVAL;VALUE=DURATION:PT1H
X-Robots-Tag:noindex
X-PUBLISHED-TTL:PT1H
BEGIN:VTIMEZONE
TZID:America/Chicago
BEGIN:DAYLIGHT
TZOFFSETFROM:-0600
TZOFFSETTO:-0500
TZNAME:CDT
DTSTART:20210314T080000
END:DAYLIGHT
BEGIN:STANDARD
TZOFFSETFROM:-0500
TZOFFSETTO:-0600
TZNAME:CST
DTSTART:20211107T070000
END:STANDARD
BEGIN:DAYLIGHT
TZOFFSETFROM:-0600
TZOFFSETTO:-0500
TZNAME:CDT
DTSTART:20220313T080000
END:DAYLIGHT
BEGIN:STANDARD
TZOFFSETFROM:-0500
TZOFFSETTO:-0600
TZNAME:CST
DTSTART:20221106T070000
END:STANDARD
BEGIN:DAYLIGHT
TZOFFSETFROM:-0600
TZOFFSETTO:-0500
TZNAME:CDT
DTSTART:20230312T080000
END:DAYLIGHT
BEGIN:STANDARD
TZOFFSETFROM:-0500
TZOFFSETTO:-0600
TZNAME:CST
DTSTART:20231105T070000
END:STANDARD
END:VTIMEZONE
BEGIN:VEVENT
DTSTART;TZID=America/Chicago:20220421T173000
DTEND;TZID=America/Chicago:20220421T210000
DTSTAMP:20260419T162259
CREATED:20220408T172033Z
LAST-MODIFIED:20220408T172033Z
UID:5853-1650562200-1650574800@www.visitlakecity.org
SUMMARY:Big Texas BBQ w/ Live Music from Tim Emmons and the Stranger
DESCRIPTION:A Big Texas Annual Celebration\nThe Lake City Chamber of Commerce is excited to announce that our annual meeting and celebration will occur on April 21 at the Sportsman’s Club! \nThe theme of the event is “Big Texas BBQ” and will feature house smoked meats from Kelly’s\, games\, and country and Americana music from the wonderfully talented Tim Emmons & the Stranger. Western-wear is encouraged. All are welcome. Let’s have fun! \nPlease register here by Thursday 4/14 so we can plan and order accordingly. \n \nTim Emmons
URL:https://www.visitlakecity.org/event/big-texas-bbq-w-live-music-from-tim-emmons-and-the-stranger/
LOCATION:Lake City Sportsman’s Club\, 2200 S Oak St.\, Lake City\, MN\, 55041
ATTACH;FMTTYPE=image/jpeg:https://www.visitlakecity.org/wp-content/uploads/2022/04/bigbbq.jpg
ORGANIZER;CN="Lake City Chamber of Commerce":MAILTO:chamberevents@lakecity.org
END:VEVENT
END:VCALENDAR