BEGIN:VCALENDAR
VERSION:2.0
PRODID:-//Visit Lake City MN - ECPv6.15.20//NONSGML v1.0//EN
CALSCALE:GREGORIAN
METHOD:PUBLISH
X-ORIGINAL-URL:https://www.visitlakecity.org
X-WR-CALDESC:Events for Visit Lake City MN
REFRESH-INTERVAL;VALUE=DURATION:PT1H
X-Robots-Tag:noindex
X-PUBLISHED-TTL:PT1H
BEGIN:VTIMEZONE
TZID:America/Chicago
BEGIN:DAYLIGHT
TZOFFSETFROM:-0600
TZOFFSETTO:-0500
TZNAME:CDT
DTSTART:20210314T080000
END:DAYLIGHT
BEGIN:STANDARD
TZOFFSETFROM:-0500
TZOFFSETTO:-0600
TZNAME:CST
DTSTART:20211107T070000
END:STANDARD
BEGIN:DAYLIGHT
TZOFFSETFROM:-0600
TZOFFSETTO:-0500
TZNAME:CDT
DTSTART:20220313T080000
END:DAYLIGHT
BEGIN:STANDARD
TZOFFSETFROM:-0500
TZOFFSETTO:-0600
TZNAME:CST
DTSTART:20221106T070000
END:STANDARD
BEGIN:DAYLIGHT
TZOFFSETFROM:-0600
TZOFFSETTO:-0500
TZNAME:CDT
DTSTART:20230312T080000
END:DAYLIGHT
BEGIN:STANDARD
TZOFFSETFROM:-0500
TZOFFSETTO:-0600
TZNAME:CST
DTSTART:20231105T070000
END:STANDARD
END:VTIMEZONE
BEGIN:VEVENT
DTSTART;VALUE=DATE:20220428
DTEND;VALUE=DATE:20220621
DTSTAMP:20260419T175544
CREATED:20220315T133846Z
LAST-MODIFIED:20220607T173722Z
UID:5705-1651104000-1655769599@www.visitlakecity.org
SUMMARY:We Are Water Exhibit
DESCRIPTION:Join the Lake Pepin Legacy Alliance in celebrating the We Are Water exhibit in Lake City\, Minnesota. \n\n\nExhibition on view April 28 – June 20\nThe Lake Pepin Legacy Alliance is proud to be a host partner for the We Are Water MN exhibition at the Lake City Public Library. This traveling exhibition examines water issues statewide and in local communities through personal stories\, histories\, and scientific information. It strengthens Minnesotans’ relationships with water\, exposes visitors to new perspectives\, and increases participation in water stewardship activities. \nRelated Events\nTogether with community partners\, LPLA is excited to provide a variety of programming related to the exhibition during its time in Lake City. \nLearn more at https://www.lakepepinlegacyalliance.org/we-are-water-mn \n\n\n\n\n\n\n\n\n\n \n \n\n\n\n\nWe Are Water MN is led by the Minnesota Humanities Center in partnership with the Minnesota Pollution Control Agency; the Minnesota Historical Society; the Minnesota Departments of Agriculture\, Health\, and Natural Resources; and University of Minnesota Extension. We Are Water MN is funded in part with money from the Clean Water\, Land\, & Legacy Fund that was created with the vote of the people of Minnesota on November 4\, 2008 and by the National Endowment for the Humanities. \n\n\n\n\n\n\n\n\n\n\n\n\n\n\n\n\n\n\n\n\n\n\n\n\n\n\n\n\n\n\n\n\n\n\n\n\n\n\n\n \n\n\n\n\n\n\n\n\n\n\n\n\n\n\n\n\n\n\n\n\n\n\n\n\n\n\n\n\n\n\n\n\n\n\n  \n  \n 
URL:https://www.visitlakecity.org/event/we-are-water-opening-night/
LOCATION:Lake City Public Library\, 201 S High St\, Lake City\, 55041\, United States
ATTACH;FMTTYPE=image/jpeg:https://www.visitlakecity.org/wp-content/uploads/2022/03/WeAreWaterMN_StoryMap.jpeg
END:VEVENT
BEGIN:VEVENT
DTSTART;TZID=America/Chicago:20220522T133000
DTEND;TZID=America/Chicago:20220522T160000
DTSTAMP:20260419T175544
CREATED:20220405T133410Z
LAST-MODIFIED:20220405T133411Z
UID:5849-1653226200-1653235200@www.visitlakecity.org
SUMMARY:Naturalist Sara Holger in Lake City
DESCRIPTION:Mark your calendar! The LC 150 will have Sara Holger share her knowledge May 22 at LC City Hall Ball Room 1:30 pm. Please join us!\n\n\nSara has worked as an environmental educator since 1994\, leading programs and activities for a variety of natural resource agencies and organizations including the US Forest Service Resort Naturalist Program\, the Minnesota Department of Natural Resource – MinnAqua Program\, the Bell Museum of Natural History\, Eagle Bluff Environmental Learning Center\, and Olmsted County Parks. Since 1999\, Sara has worked as an Interpretive Naturalist for Minnesota State Parks at Forestville/Mystery Cave State Park and Whitewater State Park. Sara is the Founder and Board President of Project Get Outdoors\, Inc.
URL:https://www.visitlakecity.org/event/naturalist-sara-holger-in-lake-city/
LOCATION:Lake City City Hall\, 205 W Center St\, Lake City\, MN\, 55041\, United States
ATTACH;FMTTYPE=image/jpeg:https://www.visitlakecity.org/wp-content/uploads/2021/09/Lodging-Frontenac-Park-e1649165639800.jpg
END:VEVENT
END:VCALENDAR