BEGIN:VCALENDAR
VERSION:2.0
PRODID:-//Visit Lake City MN - ECPv6.15.20//NONSGML v1.0//EN
CALSCALE:GREGORIAN
METHOD:PUBLISH
X-ORIGINAL-URL:https://www.visitlakecity.org
X-WR-CALDESC:Events for Visit Lake City MN
REFRESH-INTERVAL;VALUE=DURATION:PT1H
X-Robots-Tag:noindex
X-PUBLISHED-TTL:PT1H
BEGIN:VTIMEZONE
TZID:America/Chicago
BEGIN:DAYLIGHT
TZOFFSETFROM:-0600
TZOFFSETTO:-0500
TZNAME:CDT
DTSTART:20210314T080000
END:DAYLIGHT
BEGIN:STANDARD
TZOFFSETFROM:-0500
TZOFFSETTO:-0600
TZNAME:CST
DTSTART:20211107T070000
END:STANDARD
BEGIN:DAYLIGHT
TZOFFSETFROM:-0600
TZOFFSETTO:-0500
TZNAME:CDT
DTSTART:20220313T080000
END:DAYLIGHT
BEGIN:STANDARD
TZOFFSETFROM:-0500
TZOFFSETTO:-0600
TZNAME:CST
DTSTART:20221106T070000
END:STANDARD
BEGIN:DAYLIGHT
TZOFFSETFROM:-0600
TZOFFSETTO:-0500
TZNAME:CDT
DTSTART:20230312T080000
END:DAYLIGHT
BEGIN:STANDARD
TZOFFSETFROM:-0500
TZOFFSETTO:-0600
TZNAME:CST
DTSTART:20231105T070000
END:STANDARD
END:VTIMEZONE
BEGIN:VEVENT
DTSTART;TZID=America/Chicago:20220704T140000
DTEND;TZID=America/Chicago:20220704T170000
DTSTAMP:20260419T211452
CREATED:20220702T141458Z
LAST-MODIFIED:20220702T141458Z
UID:6293-1656943200-1656954000@www.visitlakecity.org
SUMMARY:Karina Kern
DESCRIPTION:Sit back and enjoy the music of 𝐊𝐚𝐫𝐢𝐧𝐚 𝐊𝐞𝐫𝐧. Karina’s sound is the perfect blend modern country music with the vocal twang of Dolores O’Riordan of ‘𝑇ℎ𝑒 𝐶𝑟𝑎𝑛𝑏𝑒𝑟𝑟𝑖𝑒𝑠’. Expect to hear Miranda Lambert\, The Eagles\, John Prine\, Imagine Dragons\, Carrie Underwood\, and so many more.
URL:https://www.visitlakecity.org/event/karina-kern/
LOCATION:Kelly’s Lake House\, 1702 N Lakeshore Dr\, Lake City\, MN\, 55041
ATTACH;FMTTYPE=image/png:https://www.visitlakecity.org/wp-content/uploads/2022/07/Screen-Shot-2022-07-02-at-8.50.25-AM.png
END:VEVENT
END:VCALENDAR