BEGIN:VCALENDAR
VERSION:2.0
PRODID:-//Visit Lake City MN - ECPv6.15.20//NONSGML v1.0//EN
CALSCALE:GREGORIAN
METHOD:PUBLISH
X-ORIGINAL-URL:https://www.visitlakecity.org
X-WR-CALDESC:Events for Visit Lake City MN
REFRESH-INTERVAL;VALUE=DURATION:PT1H
X-Robots-Tag:noindex
X-PUBLISHED-TTL:PT1H
BEGIN:VTIMEZONE
TZID:America/Chicago
BEGIN:DAYLIGHT
TZOFFSETFROM:-0600
TZOFFSETTO:-0500
TZNAME:CDT
DTSTART:20210314T080000
END:DAYLIGHT
BEGIN:STANDARD
TZOFFSETFROM:-0500
TZOFFSETTO:-0600
TZNAME:CST
DTSTART:20211107T070000
END:STANDARD
BEGIN:DAYLIGHT
TZOFFSETFROM:-0600
TZOFFSETTO:-0500
TZNAME:CDT
DTSTART:20220313T080000
END:DAYLIGHT
BEGIN:STANDARD
TZOFFSETFROM:-0500
TZOFFSETTO:-0600
TZNAME:CST
DTSTART:20221106T070000
END:STANDARD
BEGIN:DAYLIGHT
TZOFFSETFROM:-0600
TZOFFSETTO:-0500
TZNAME:CDT
DTSTART:20230312T080000
END:DAYLIGHT
BEGIN:STANDARD
TZOFFSETFROM:-0500
TZOFFSETTO:-0600
TZNAME:CST
DTSTART:20231105T070000
END:STANDARD
END:VTIMEZONE
BEGIN:VEVENT
DTSTART;TZID=America/Chicago:20220710T140000
DTEND;TZID=America/Chicago:20220710T170000
DTSTAMP:20260419T211452
CREATED:20220710T174239Z
LAST-MODIFIED:20220710T174239Z
UID:6338-1657461600-1657472400@www.visitlakecity.org
SUMMARY:Chris O'Leary Live!
DESCRIPTION:Come and see the fabulous and entertaining Chris O’Leary\, live\, free\, and in-person at Kelly’s Lake House in Lake City\, MN. It’s an afternoon of music you won’t want to miss!
URL:https://www.visitlakecity.org/event/chris-oleary-live/
LOCATION:Kelly’s Lake House\, 1702 N Lakeshore Dr\, Lake City\, MN\, 55041
ATTACH;FMTTYPE=image/png:https://www.visitlakecity.org/wp-content/uploads/2022/07/Screen-Shot-2022-07-10-at-12.41.27-PM-e1657474951139.png
END:VEVENT
END:VCALENDAR