BEGIN:VCALENDAR
VERSION:2.0
PRODID:-//Visit Lake City MN - ECPv6.15.20//NONSGML v1.0//EN
CALSCALE:GREGORIAN
METHOD:PUBLISH
X-ORIGINAL-URL:https://www.visitlakecity.org
X-WR-CALDESC:Events for Visit Lake City MN
REFRESH-INTERVAL;VALUE=DURATION:PT1H
X-Robots-Tag:noindex
X-PUBLISHED-TTL:PT1H
BEGIN:VTIMEZONE
TZID:America/Chicago
BEGIN:DAYLIGHT
TZOFFSETFROM:-0600
TZOFFSETTO:-0500
TZNAME:CDT
DTSTART:20210314T080000
END:DAYLIGHT
BEGIN:STANDARD
TZOFFSETFROM:-0500
TZOFFSETTO:-0600
TZNAME:CST
DTSTART:20211107T070000
END:STANDARD
BEGIN:DAYLIGHT
TZOFFSETFROM:-0600
TZOFFSETTO:-0500
TZNAME:CDT
DTSTART:20220313T080000
END:DAYLIGHT
BEGIN:STANDARD
TZOFFSETFROM:-0500
TZOFFSETTO:-0600
TZNAME:CST
DTSTART:20221106T070000
END:STANDARD
BEGIN:DAYLIGHT
TZOFFSETFROM:-0600
TZOFFSETTO:-0500
TZNAME:CDT
DTSTART:20230312T080000
END:DAYLIGHT
BEGIN:STANDARD
TZOFFSETFROM:-0500
TZOFFSETTO:-0600
TZNAME:CST
DTSTART:20231105T070000
END:STANDARD
END:VTIMEZONE
BEGIN:VEVENT
DTSTART;VALUE=DATE:20220723
DTEND;VALUE=DATE:20220724
DTSTAMP:20260419T211452
CREATED:20220618T131058Z
LAST-MODIFIED:20220618T131059Z
UID:6240-1658534400-1658620799@www.visitlakecity.org
SUMMARY:Camp Lakeview Encampment
DESCRIPTION:Join us in Lake City for this free 150th Celebration event.\nSee how life was like during the Minnesota Army National Guard encampment at Lakeview from 1881-1931.\nExperience Civil War artillery firing demonstrations at 10am\, 12\, 2\, and 4pm!\nStick around for The Pale Ales at the nearby Sportsman’s Club after.
URL:https://www.visitlakecity.org/event/camp-lakeview-encampment/
LOCATION:Lake City Sportsman’s Club\, 2200 S Oak St.\, Lake City\, MN\, 55041
ATTACH;FMTTYPE=image/jpeg:https://www.visitlakecity.org/wp-content/uploads/2022/06/Camp-Lakeview-Encampment.jpg
END:VEVENT
BEGIN:VEVENT
DTSTART;TZID=America/Chicago:20220723T130000
DTEND;TZID=America/Chicago:20220723T150000
DTSTAMP:20260419T211452
CREATED:20220718T144150Z
LAST-MODIFIED:20220718T144151Z
UID:6354-1658581200-1658588400@www.visitlakecity.org
SUMMARY:Old Fashioned Grain Shocking Day
DESCRIPTION:Do you remember grain shocking on your Grandpa’s farm? We’re having an old fashioned grain shocking day at 1pm on Saturday July 23rd at the farm of Marilyn and Dwain Gerken. All are welcome to spectate or participate! \nCall Sue Engen at (651) 380-6294 for more info. \n 
URL:https://www.visitlakecity.org/event/old-fashioned-grain-shocking-day/
LOCATION:Marilyn and Duane Gerken Farm\, 64245 355th Ave\, Lake City\, MN\, 55041\, United States
ATTACH;FMTTYPE=image/jpeg:https://www.visitlakecity.org/wp-content/uploads/2022/07/shock.jpg
END:VEVENT
END:VCALENDAR