BEGIN:VCALENDAR
VERSION:2.0
PRODID:-//Visit Lake City MN - ECPv6.15.20//NONSGML v1.0//EN
CALSCALE:GREGORIAN
METHOD:PUBLISH
X-ORIGINAL-URL:https://www.visitlakecity.org
X-WR-CALDESC:Events for Visit Lake City MN
REFRESH-INTERVAL;VALUE=DURATION:PT1H
X-Robots-Tag:noindex
X-PUBLISHED-TTL:PT1H
BEGIN:VTIMEZONE
TZID:America/Chicago
BEGIN:DAYLIGHT
TZOFFSETFROM:-0600
TZOFFSETTO:-0500
TZNAME:CDT
DTSTART:20210314T080000
END:DAYLIGHT
BEGIN:STANDARD
TZOFFSETFROM:-0500
TZOFFSETTO:-0600
TZNAME:CST
DTSTART:20211107T070000
END:STANDARD
BEGIN:DAYLIGHT
TZOFFSETFROM:-0600
TZOFFSETTO:-0500
TZNAME:CDT
DTSTART:20220313T080000
END:DAYLIGHT
BEGIN:STANDARD
TZOFFSETFROM:-0500
TZOFFSETTO:-0600
TZNAME:CST
DTSTART:20221106T070000
END:STANDARD
BEGIN:DAYLIGHT
TZOFFSETFROM:-0600
TZOFFSETTO:-0500
TZNAME:CDT
DTSTART:20230312T080000
END:DAYLIGHT
BEGIN:STANDARD
TZOFFSETFROM:-0500
TZOFFSETTO:-0600
TZNAME:CST
DTSTART:20231105T070000
END:STANDARD
END:VTIMEZONE
BEGIN:VEVENT
DTSTART;TZID=America/Chicago:20220730T170000
DTEND;TZID=America/Chicago:20220730T200000
DTSTAMP:20260419T211452
CREATED:20220728T175324Z
LAST-MODIFIED:20220728T175324Z
UID:6371-1659200400-1659211200@www.visitlakecity.org
SUMMARY:Bryan Anderson Live!
DESCRIPTION:Come see Bryan Anderson a Nashville recording artist\, from Vasa Minnesota at Kelly’s Lake House! His hit song “Anywhere But Here” is available nationwide\, but you can listen to it\, live\, free and in-person with your favorite beverage in hand! It’s an evening of music you won’t want to miss!
URL:https://www.visitlakecity.org/event/bryan-anderson-live/
LOCATION:Kelly’s Lake House\, 1702 N Lakeshore Dr\, Lake City\, MN\, 55041
ATTACH;FMTTYPE=image/jpeg:https://www.visitlakecity.org/wp-content/uploads/2022/07/Bryan-Anderson.jpg
END:VEVENT
END:VCALENDAR