BEGIN:VCALENDAR
VERSION:2.0
PRODID:-//Visit Lake City MN - ECPv6.15.20//NONSGML v1.0//EN
CALSCALE:GREGORIAN
METHOD:PUBLISH
X-WR-CALNAME:Visit Lake City MN
X-ORIGINAL-URL:https://www.visitlakecity.org
X-WR-CALDESC:Events for Visit Lake City MN
REFRESH-INTERVAL;VALUE=DURATION:PT1H
X-Robots-Tag:noindex
X-PUBLISHED-TTL:PT1H
BEGIN:VTIMEZONE
TZID:America/Chicago
BEGIN:DAYLIGHT
TZOFFSETFROM:-0600
TZOFFSETTO:-0500
TZNAME:CDT
DTSTART:20210314T080000
END:DAYLIGHT
BEGIN:STANDARD
TZOFFSETFROM:-0500
TZOFFSETTO:-0600
TZNAME:CST
DTSTART:20211107T070000
END:STANDARD
BEGIN:DAYLIGHT
TZOFFSETFROM:-0600
TZOFFSETTO:-0500
TZNAME:CDT
DTSTART:20220313T080000
END:DAYLIGHT
BEGIN:STANDARD
TZOFFSETFROM:-0500
TZOFFSETTO:-0600
TZNAME:CST
DTSTART:20221106T070000
END:STANDARD
BEGIN:DAYLIGHT
TZOFFSETFROM:-0600
TZOFFSETTO:-0500
TZNAME:CDT
DTSTART:20230312T080000
END:DAYLIGHT
BEGIN:STANDARD
TZOFFSETFROM:-0500
TZOFFSETTO:-0600
TZNAME:CST
DTSTART:20231105T070000
END:STANDARD
END:VTIMEZONE
BEGIN:VEVENT
DTSTART;TZID=America/Chicago:20220819T130000
DTEND;TZID=America/Chicago:20220910T170000
DTSTAMP:20260420T002648
CREATED:20220822T190009Z
LAST-MODIFIED:20220901T140344Z
UID:6425-1660914000-1662829200@www.visitlakecity.org
SUMMARY:Jacci Clark Exhibit
DESCRIPTION:Eyes of the Woods Exhibit by Jacci Clark is opening Friday August 19 and will go to September 10\, 2022.  Jacci Clark\, a watercolor artist\, hails from Plainview\, Minnesota. Jacci minored in graphic arts in college\, but her path took a different turn when she started working in the medical field. In 2018\, after a 34-year hiatus from art\, she took up her pencil and started drawing again. \nJacci’s niche is capturing the expression in a subject’s eyes\, whether it is of a person\, animal\, or bug. “Get the eyes right and you’ve captured the soul\,” shesays. Her portraits were initially done in charcoal and graphite pencil with the goal of giving as realistic and detailed representation as possible. Eventually she transitioned to watercolor. Jacci found watercolor requires a different mindset. She now paints in a loose\, almost reckless\, fashion\, letting the watercolor work its magic. \nArtist  Reception will take place Saturday\, 9/10 at 5 PM.  Please come and meet the artists and enjoy some refreshments and light appetizers.
URL:https://www.visitlakecity.org/event/jacci-clark-exhibit/
LOCATION:Lake City Area Arts\, 105 W Center St.\, Lake City\, MN\, 55041
ATTACH;FMTTYPE=image/jpeg:https://www.visitlakecity.org/wp-content/uploads/2022/08/art-by-jacci.jpg
ORGANIZER;CN="Lake City Area Arts":MAILTO:lakecityareaarts@gmail.com
END:VEVENT
BEGIN:VEVENT
DTSTART;TZID=America/Chicago:20220819T130000
DTEND;TZID=America/Chicago:20220917T170000
DTSTAMP:20260420T002648
CREATED:20220822T185032Z
LAST-MODIFIED:20220822T190355Z
UID:6422-1660914000-1663434000@www.visitlakecity.org
SUMMARY:Stephen McKenzie Exhibit
DESCRIPTION:Celebrate The Past and Imagine The Future\, an exhibit by Stephen McKenzie is opening Friday August 19 to September 17th Fridays and Saturdays 1-5PM. \nArtist  Reception will take place Saturday\, 9/10 at 5 PM.  Please come and meet the artists and enjoy some refreshments and light appetizers. \nBorn and raised in Lake City\, Stephen studied art on the east coast and Italy.  Professionally\, McKenzie has been an adjunct instructor at four schools in New Jersey. Following this\, McKenzie became involved with the Newark Print Shop and operated as the Master Printer\, Senior Educator and Shop Manager through spring of 2021. \nIn late summer of 2001\, McKenzie was chosen to be a part of a group of printmakers who spent two weeks in a residence in Berlin working with a group of German printmakers. \nMcKenzie has explored and developed extensive bodies of work in all the major areas of printmaking which include intaglio\, lithography\, relief and screenprinting. Additionally he has extensively created a series of works in the monotype process\, both using traditional printmaking equipment as well as non-traditional equipment. He is also conversant with papermaking. His work has been included in national print shows and he has won awards. One final note is that he also is listed in the Guinness Book of World Records for the creation of the Worlds Largest Monotype. Stephen now resides in Northfield\, MN.\nhttps://stephenjmckenzie.com/
URL:https://www.visitlakecity.org/event/stephen-mckenzie-exhibit/
LOCATION:Lake City Area Arts\, 105 W Center St.\, Lake City\, MN\, 55041
ATTACH;FMTTYPE=image/webp:https://www.visitlakecity.org/wp-content/uploads/2022/08/smckenzie-e1661194140123.webp
ORGANIZER;CN="Lake City Area Arts":MAILTO:lakecityareaarts@gmail.com
END:VEVENT
END:VCALENDAR