BEGIN:VCALENDAR
VERSION:2.0
PRODID:-//Visit Lake City MN - ECPv6.15.20//NONSGML v1.0//EN
CALSCALE:GREGORIAN
METHOD:PUBLISH
X-ORIGINAL-URL:https://www.visitlakecity.org
X-WR-CALDESC:Events for Visit Lake City MN
REFRESH-INTERVAL;VALUE=DURATION:PT1H
X-Robots-Tag:noindex
X-PUBLISHED-TTL:PT1H
BEGIN:VTIMEZONE
TZID:America/Chicago
BEGIN:DAYLIGHT
TZOFFSETFROM:-0600
TZOFFSETTO:-0500
TZNAME:CDT
DTSTART:20210314T080000
END:DAYLIGHT
BEGIN:STANDARD
TZOFFSETFROM:-0500
TZOFFSETTO:-0600
TZNAME:CST
DTSTART:20211107T070000
END:STANDARD
BEGIN:DAYLIGHT
TZOFFSETFROM:-0600
TZOFFSETTO:-0500
TZNAME:CDT
DTSTART:20220313T080000
END:DAYLIGHT
BEGIN:STANDARD
TZOFFSETFROM:-0500
TZOFFSETTO:-0600
TZNAME:CST
DTSTART:20221106T070000
END:STANDARD
BEGIN:DAYLIGHT
TZOFFSETFROM:-0600
TZOFFSETTO:-0500
TZNAME:CDT
DTSTART:20230312T080000
END:DAYLIGHT
BEGIN:STANDARD
TZOFFSETFROM:-0500
TZOFFSETTO:-0600
TZNAME:CST
DTSTART:20231105T070000
END:STANDARD
END:VTIMEZONE
BEGIN:VEVENT
DTSTART;TZID=America/Chicago:20221001T170000
DTEND;TZID=America/Chicago:20221001T193000
DTSTAMP:20260420T002734
CREATED:20220901T141504Z
LAST-MODIFIED:20220901T141516Z
UID:6517-1664643600-1664652600@www.visitlakecity.org
SUMMARY:Saturday Sunset Paddle Boat Cruise
DESCRIPTION:September means Saturday Sunsets on the Pearl of the Lake Paddle Boat are open to the public!\nFour of these popular cruises are on the schedule starting September 10\, 17\, 24 and October 1. Book your tickets online at Pearlofthelake.com.
URL:https://www.visitlakecity.org/event/september-saturday-sunset-paddle-boat-cruises-4/
LOCATION:pearl of the lake paddle boat\, 100 Central Point Rd\, Lake City\, MN\, 55041\, United States
ATTACH;FMTTYPE=image/jpeg:https://www.visitlakecity.org/wp-content/uploads/2022/09/pearl-photog.jpg
END:VEVENT
END:VCALENDAR