BEGIN:VCALENDAR
VERSION:2.0
PRODID:-//Visit Lake City MN - ECPv6.15.20//NONSGML v1.0//EN
CALSCALE:GREGORIAN
METHOD:PUBLISH
X-WR-CALNAME:Visit Lake City MN
X-ORIGINAL-URL:https://www.visitlakecity.org
X-WR-CALDESC:Events for Visit Lake City MN
REFRESH-INTERVAL;VALUE=DURATION:PT1H
X-Robots-Tag:noindex
X-PUBLISHED-TTL:PT1H
BEGIN:VTIMEZONE
TZID:America/Chicago
BEGIN:DAYLIGHT
TZOFFSETFROM:-0600
TZOFFSETTO:-0500
TZNAME:CDT
DTSTART:20250309T080000
END:DAYLIGHT
BEGIN:STANDARD
TZOFFSETFROM:-0500
TZOFFSETTO:-0600
TZNAME:CST
DTSTART:20251102T070000
END:STANDARD
BEGIN:DAYLIGHT
TZOFFSETFROM:-0600
TZOFFSETTO:-0500
TZNAME:CDT
DTSTART:20260308T080000
END:DAYLIGHT
BEGIN:STANDARD
TZOFFSETFROM:-0500
TZOFFSETTO:-0600
TZNAME:CST
DTSTART:20261101T070000
END:STANDARD
BEGIN:DAYLIGHT
TZOFFSETFROM:-0600
TZOFFSETTO:-0500
TZNAME:CDT
DTSTART:20270314T080000
END:DAYLIGHT
BEGIN:STANDARD
TZOFFSETFROM:-0500
TZOFFSETTO:-0600
TZNAME:CST
DTSTART:20271107T070000
END:STANDARD
END:VTIMEZONE
BEGIN:VEVENT
DTSTART;TZID=America/Chicago:20260411T100000
DTEND;TZID=America/Chicago:20260411T130000
DTSTAMP:20260419T072739
CREATED:20260304T162911Z
LAST-MODIFIED:20260410T162901Z
UID:11002-1775901600-1775912400@www.visitlakecity.org
SUMMARY:Kombucha on the Farm!
DESCRIPTION:Join The John the Baptist Beverage Company for kombucha\, snacks\, llamas\, and baby goats! \nRight on their farm\, JTB Beverage Co. create and serve delicious beverages made from local\, fair-trade\, and organic ingredients. Try unique flavors like Pear Sumac and Lavender Vanilla that you won’t find anywhere else! \nStop by their beverage stand and enjoy our fresh kombucha\, kombucha slushies\, homemade baked goods\, tasty snacks & more! \nOpen every Saturday in summer and monthly in winter! \n  \n \n \n\n\n\n\n\n\n\n\n\n\n\n\n\n\n\n\n\n\n\n\n\n\n\n\n\n\n\n\n\n\n\n\n\n\n\n\n\n 
URL:https://www.visitlakecity.org/event/kombucha-on-the-farm-2/
LOCATION:St. John the Baptist Beverage Company\, 33292 County 5 Blvd\, Lake City\, MN\, 55041
ATTACH;FMTTYPE=image/jpeg:https://www.visitlakecity.org/wp-content/uploads/2023/07/Kombucha-4-e1717728937426.jpg
END:VEVENT
BEGIN:VEVENT
DTSTART;TZID=America/Chicago:20260411T183000
DTEND;TZID=America/Chicago:20260411T213000
DTSTAMP:20260419T072739
CREATED:20260401T163709Z
LAST-MODIFIED:20260401T163709Z
UID:11071-1775932200-1775943000@www.visitlakecity.org
SUMMARY:Pieta Brown with Liz Draper Live!
DESCRIPTION:overview\n\nThe Talent\nPieta Brown: Hailed as a “self-styled poetess\, folk goddess\, and country waif” by the BBC\, Pieta Brown first came to international prominence with the release of her self-titled debut in 2002. Since then she has released multiple highly critically acclaimed albums\, EPs and singles\, with much attention being paid not only to her distinct sound and style\, but also the power of her singing and songwriting\, including fan favorite\, Paradise Outlaw\, which Bon Iver mastermind Justin Vernon has called his “favorite recording made at our studio.” Brown has toured worldwide with artists such as John Prine\, Amos Lee\, Brandi Carlisle\, JJ Cale\, Ani DiFranco\, Mavis Staples\, and Calexico among others. She has co-written songs with and made guest appearances on albums by Calexico\, Amos Lee\, Howe Gelb\, and Iris Dement. Brown’s most recent album Freeway was co-produced by S. Carey and earned widespread critical acclaim from NPR Music\, Stereogum\, Billboard\, FLOOD\, Paste\, American Songwriter\, Folk Alley\, and Relix. She followed that shortly after with the bold and experimental single “Follow You” as well as an EP/digital triptych collaboration recorded at Justin Vernon and Aaron Dessner’s HIVER Festival called We Are Not Machines featuring Ani DiFranco\, S. Carey\, Holland Andrews\, Jenn Wassner\, and more. In 2022 Pieta further expanded her musical prowess by recording and releasing an album of original cinematic instrumentals\, The Less I Needed The Better I Felt\, under the moniker Sylvee & The Sea featuring John Convertino (Calexico)\, Don Was\, and CJ Carmerieri (Carm). She also co-produced Iris DeMent’s most recent album Workin’ On A World\, which has garnered praise from Rolling Stone and The New York Times among many others. Along the way she has earned respect and accolades for her talents in soundtrack design\, videography\, and photography as well; Brown’s photographs have appeared in gallery shows and on numerous album covers for fellow artists. Continually revealing new layers as a songwriter\, singer\, musician\, producer\, visual artist and performer\, Brown is being recognized as a true multi-hyphenate and one of modern Americana’s true gems. “Pieta Brown sings about love and trust…“In my heart you sing clear and bright / It makes me feel like things will be all right\,” she intones\, convincing both herself and anyone listening.” – The New York Times \nPieta will be joined by her trio for the first set and in the second will be joined by Liz Draper. \nLiz Draper: classically and jazz-trained versatile bassist\, has performed\, recorded and/or toured internationally with such groups as the Grammy Award-winning Okee Dokee Brothers\, Soul Asylum\, Charlie Parr\, The Rose Ensemble\, Ben Weaver\, Orkestar Bez Ime\, and Davina and the Vagabonds. A professional musician since age 16\, Liz has performed in an astonishing array of musical genres and ensembles\, from jazz and classical to folk\, metal\, improvisational\, experimental\, Balkan\, and chamber strings. \nTickets\n$21.50 online\n$24.00 at the door \nAgenda\n\n6:30-7:30 Doors\n7:30-9:30 Music\n\nLocation\nAddress: 67011 hwy 63\, Lake City\, MN 55041 \nParking\nONLY PARK ON EAST SIDE OF 82 (general store side of the gravel road) \nrefer to picture on homepage if confused \nAccessibility\nThe music venue itself is only accessed via staircase. The show will be played over speakers on the main floor for anyone who cannot or wishes not to go upstairs. \nTickets are required only for guests that go upstairs. \nAny questions?\nphone: 616-260-4924\noakcentergeneralstoremn@gmail.com
URL:https://www.visitlakecity.org/event/pieta-brown-with-liz-draper-live/
LOCATION:Oak Center General Store\, 67011 Highway 63\, Lake City\, Minnesota\, 55041
ATTACH;FMTTYPE=image/png:https://www.visitlakecity.org/wp-content/uploads/2026/04/pieta.png
END:VEVENT
BEGIN:VEVENT
DTSTART;TZID=America/Chicago:20260411T190000
DTEND;TZID=America/Chicago:20260411T213000
DTSTAMP:20260419T072739
CREATED:20260401T162944Z
LAST-MODIFIED:20260401T162944Z
UID:11064-1775934000-1775943000@www.visitlakecity.org
SUMMARY:Jambalaya Live!
DESCRIPTION:Looking for funky rock and soul music? Jambalaya delivers the goods with great players at every position. Think songs by Little Feat and the Allman Brothers with a mix of Muscle Shoals and Memphis added.\nFaith Ulwelling who joined us for the outstanding Mardi Gras Valentine concert Feb. 14th on vocals is part of this talented group and we are happy to have her back in house for your enjoyment.\nOur dance floor will be ready!
URL:https://www.visitlakecity.org/event/jambalaya-live/
LOCATION:WideSpot Performimg Arts Center\, 611 Broadway Ave\, Wabasha\, MN\, United States
ATTACH;FMTTYPE=image/png:https://www.visitlakecity.org/wp-content/uploads/2026/03/image001.png
END:VEVENT
END:VCALENDAR