BEGIN:VCALENDAR
VERSION:2.0
PRODID:-//Visit Lake City MN - ECPv6.15.20//NONSGML v1.0//EN
CALSCALE:GREGORIAN
METHOD:PUBLISH
X-WR-CALNAME:Visit Lake City MN
X-ORIGINAL-URL:https://www.visitlakecity.org
X-WR-CALDESC:Events for Visit Lake City MN
REFRESH-INTERVAL;VALUE=DURATION:PT1H
X-Robots-Tag:noindex
X-PUBLISHED-TTL:PT1H
BEGIN:VTIMEZONE
TZID:America/Chicago
BEGIN:DAYLIGHT
TZOFFSETFROM:-0600
TZOFFSETTO:-0500
TZNAME:CDT
DTSTART:20200308T080000
END:DAYLIGHT
BEGIN:STANDARD
TZOFFSETFROM:-0500
TZOFFSETTO:-0600
TZNAME:CST
DTSTART:20201101T070000
END:STANDARD
BEGIN:DAYLIGHT
TZOFFSETFROM:-0600
TZOFFSETTO:-0500
TZNAME:CDT
DTSTART:20210314T080000
END:DAYLIGHT
BEGIN:STANDARD
TZOFFSETFROM:-0500
TZOFFSETTO:-0600
TZNAME:CST
DTSTART:20211107T070000
END:STANDARD
BEGIN:DAYLIGHT
TZOFFSETFROM:-0600
TZOFFSETTO:-0500
TZNAME:CDT
DTSTART:20220313T080000
END:DAYLIGHT
BEGIN:STANDARD
TZOFFSETFROM:-0500
TZOFFSETTO:-0600
TZNAME:CST
DTSTART:20221106T070000
END:STANDARD
BEGIN:DAYLIGHT
TZOFFSETFROM:-0600
TZOFFSETTO:-0500
TZNAME:CDT
DTSTART:20230312T080000
END:DAYLIGHT
BEGIN:STANDARD
TZOFFSETFROM:-0500
TZOFFSETTO:-0600
TZNAME:CST
DTSTART:20231105T070000
END:STANDARD
END:VTIMEZONE
BEGIN:VEVENT
DTSTART;TZID=America/Chicago:20211221T080000
DTEND;TZID=America/Chicago:20220103T170000
DTSTAMP:20260419T092915
CREATED:20211221T185236Z
LAST-MODIFIED:20211221T191457Z
UID:5273-1640073600-1641229200@www.visitlakecity.org
SUMMARY:Holiday Lights
DESCRIPTION:Patton Park is a winter wonderland of Christmas lights with a true Norman Rockwell vibe\, and Lakeshore Drive sparkles in the crisp winter night air. \nLake City is the perfect spot to get away from it all and enjoy some holiday time in the most picturesque of places. Be sure to check out our lodging and dining pages to explore all sorts of cozy options for your end of year adventure.
URL:https://www.visitlakecity.org/event/holiday-lights/
LOCATION:Lake City Patton Park\, Lake City\, MN\, 55041
ATTACH;FMTTYPE=image/jpeg:https://www.visitlakecity.org/wp-content/uploads/2021/12/lights-e1640112648113.jpg
END:VEVENT
BEGIN:VEVENT
DTSTART;TZID=America/Chicago:20220115T190000
DTEND;TZID=America/Chicago:20220115T210000
DTSTAMP:20260419T092915
CREATED:20220106T165006Z
LAST-MODIFIED:20220106T165006Z
UID:5344-1642273200-1642280400@www.visitlakecity.org
SUMMARY:PK Mayo in Concert
DESCRIPTION:Multi-genre singer and songwriter PK Mayo will perform Saturday\, January 15th at 7pm at the Lake City\nArea Arts Center.\nMayo’s music is an “aural quilt built of what today is called the Americana genre: Country\, Rock n Roll\, Blues\, and Folk\, shaken and stirred into a satisfying musical brew.”\nSuggested donation to this concert is $10\nLearn more about PK Mayo at www.pkmayo.com \nLake City Area Arts Building\n105 W Center St\nLake City\, MN 55041\nwww.lcaa-home.org
URL:https://www.visitlakecity.org/event/pk-mayo-in-concert/
LOCATION:Lake City Area Arts\, 105 W Center St.\, Lake City\, MN\, 55041
ATTACH;FMTTYPE=image/jpeg:https://www.visitlakecity.org/wp-content/uploads/2022/01/PK-Mayo-by-John-Heinen-e1641487790215.jpg
ORGANIZER;CN="Lake City Area Arts":MAILTO:lakecityareaarts@gmail.com
END:VEVENT
BEGIN:VEVENT
DTSTART;TZID=America/Chicago:20220122T120000
DTEND;TZID=America/Chicago:20220227T160000
DTSTAMP:20260419T092915
CREATED:20211220T153413Z
LAST-MODIFIED:20211220T153414Z
UID:5268-1642852800-1645977600@www.visitlakecity.org
SUMMARY:Exhibit: Snapshot of Lake City
DESCRIPTION:Opens January 22\, 2022 Saturdays 12-4PM and Sundays 1-4PM. This photography exhibit encapsulates Lake City in the current time. Please come enjoy this collaboration of exhibits from the Lake City Photography Club.    \nThis is only the beginning of Lake City’s 150th Celebrations.   \nReception will be held Sunday 1/23/22 from 1-4 PM with a photography club panel to lead discussion about the photo exhibit.  Exhibit will close 2/27/22.
URL:https://www.visitlakecity.org/event/exhibit-snapshot-of-lake-city/
LOCATION:Lake City Area Arts\, 105 W Center St.\, Lake City\, MN\, 55041
ATTACH;FMTTYPE=image/jpeg:https://www.visitlakecity.org/wp-content/uploads/2021/12/swan-jewelery-e1640014419781.jpg
ORGANIZER;CN="Lake City Area Arts":MAILTO:lakecityareaarts@gmail.com
END:VEVENT
END:VCALENDAR