BEGIN:VCALENDAR
VERSION:2.0
PRODID:-//Visit Lake City MN - ECPv6.15.20//NONSGML v1.0//EN
CALSCALE:GREGORIAN
METHOD:PUBLISH
X-WR-CALNAME:Visit Lake City MN
X-ORIGINAL-URL:https://www.visitlakecity.org
X-WR-CALDESC:Events for Visit Lake City MN
REFRESH-INTERVAL;VALUE=DURATION:PT1H
X-Robots-Tag:noindex
X-PUBLISHED-TTL:PT1H
BEGIN:VTIMEZONE
TZID:America/Chicago
BEGIN:DAYLIGHT
TZOFFSETFROM:-0600
TZOFFSETTO:-0500
TZNAME:CDT
DTSTART:20210314T080000
END:DAYLIGHT
BEGIN:STANDARD
TZOFFSETFROM:-0500
TZOFFSETTO:-0600
TZNAME:CST
DTSTART:20211107T070000
END:STANDARD
BEGIN:DAYLIGHT
TZOFFSETFROM:-0600
TZOFFSETTO:-0500
TZNAME:CDT
DTSTART:20220313T080000
END:DAYLIGHT
BEGIN:STANDARD
TZOFFSETFROM:-0500
TZOFFSETTO:-0600
TZNAME:CST
DTSTART:20221106T070000
END:STANDARD
BEGIN:DAYLIGHT
TZOFFSETFROM:-0600
TZOFFSETTO:-0500
TZNAME:CDT
DTSTART:20230312T080000
END:DAYLIGHT
BEGIN:STANDARD
TZOFFSETFROM:-0500
TZOFFSETTO:-0600
TZNAME:CST
DTSTART:20231105T070000
END:STANDARD
END:VTIMEZONE
BEGIN:VEVENT
DTSTART;TZID=America/Chicago:20220122T120000
DTEND;TZID=America/Chicago:20220227T160000
DTSTAMP:20260419T110213
CREATED:20211220T153413Z
LAST-MODIFIED:20211220T153414Z
UID:5268-1642852800-1645977600@www.visitlakecity.org
SUMMARY:Exhibit: Snapshot of Lake City
DESCRIPTION:Opens January 22\, 2022 Saturdays 12-4PM and Sundays 1-4PM. This photography exhibit encapsulates Lake City in the current time. Please come enjoy this collaboration of exhibits from the Lake City Photography Club.    \nThis is only the beginning of Lake City’s 150th Celebrations.   \nReception will be held Sunday 1/23/22 from 1-4 PM with a photography club panel to lead discussion about the photo exhibit.  Exhibit will close 2/27/22.
URL:https://www.visitlakecity.org/event/exhibit-snapshot-of-lake-city/
LOCATION:Lake City Area Arts\, 105 W Center St.\, Lake City\, MN\, 55041
ATTACH;FMTTYPE=image/jpeg:https://www.visitlakecity.org/wp-content/uploads/2021/12/swan-jewelery-e1640014419781.jpg
ORGANIZER;CN="Lake City Area Arts":MAILTO:lakecityareaarts@gmail.com
END:VEVENT
BEGIN:VEVENT
DTSTART;VALUE=DATE:20220205
DTEND;VALUE=DATE:20220227
DTSTAMP:20260419T110213
CREATED:20220117T153839Z
LAST-MODIFIED:20220117T162706Z
UID:5385-1644019200-1645919999@www.visitlakecity.org
SUMMARY:WinterStüff!
DESCRIPTION:Ok\, your first question is probably\, “What the heck does WinterStüff mean???”\nWell\, in a sense\, WinterStüff is a state of mind as much as it is a made up word!\nIt’s a state of mind that says\, “get outside and enjoy the Minnesota winter with other folks who share similar interests and have a great time doing so!”\nThat’s why Lake City invites all to come visit us for 4 February Saturdays of outdoor fun\, bonfires\, ice golf\, food and beverages\, and FUN\, FUN\, FUN! \n \nSaturday Feb 5\n11am-2pm Snowshoe/Hike in Hok Si La Park\n2-5pm Bonfire and Ice Golf at Kelly’s Lake House \nSaturday Feb 12\n11am-2pm Fired Up! Fat Tire Ride at the Jewel*\n2-5pm Bonfire and Ice Golf at Kelly’s Lake House \nSaturday Feb 19\n11am-6pm Sportsman’s Club Ice Fishing Contest (and festivities)\n2-5pm Bonfire and Ice Golf at Kelly’s Lake House \nSaturday Feb 26\n11am-2pm CC Ski/Snowshoe/Sled in Frontenac State Park\n2-5pm Bonfire and Ice Golf at Kelly’s Lake House \n*Participants must register at the Jewel Clubhouse before riding\n**Participants must obtain state park vehicle permit \nAll activities are weather permitting. No equipment provided. Participate at your own risk.
URL:https://www.visitlakecity.org/event/winterstuff/
LOCATION:Multiple Venues
ATTACH;FMTTYPE=image/jpeg:https://www.visitlakecity.org/wp-content/uploads/2022/01/Winterstuff_Flyer-copy-e1642433537351.jpeg
END:VEVENT
BEGIN:VEVENT
DTSTART;TZID=America/Chicago:20220205T183000
DTEND;TZID=America/Chicago:20220205T230000
DTSTAMP:20260419T110213
CREATED:20220112T202213Z
LAST-MODIFIED:20220112T202214Z
UID:5368-1644085800-1644102000@www.visitlakecity.org
SUMMARY:Winterfest Dance with LP and the 45's
DESCRIPTION:Enjoy the band-LP & 45’s at the Sportsman’s Club on February 5th. LP & the 45s is a classic hits band from Rochester\, Minnesota which pays tribute to the pioneers of pop\, rock\, country\, rockabilly\, and soul by covering some of their greatest hits – songs by artists such as Elvis Presley\, Jerry Lee Lewis\, Johnny Cash\, Little Richard\, Chuck Berry\, Ray Charles\, The Beatles\, The Rolling Stones\, and many\, many more! Tickets $15\, contact lakecityareaarts@gmail.com for tickets. This is a fundraiser event\, please join us in the fun and help out your community art center! More information is coming.
URL:https://www.visitlakecity.org/event/winterfest-dance-with-lp-and-the-45s/
LOCATION:Lake City Sportsman’s Club\, 2200 S Oak St.\, Lake City\, MN\, 55041
ATTACH;FMTTYPE=image/jpeg:https://www.visitlakecity.org/wp-content/uploads/2022/01/lp-45.jpg
ORGANIZER;CN="Lake City Area Arts":MAILTO:lakecityareaarts@gmail.com
END:VEVENT
BEGIN:VEVENT
DTSTART;VALUE=DATE:20220212
DTEND;VALUE=DATE:20220213
DTSTAMP:20260419T110213
CREATED:20220118T151720Z
LAST-MODIFIED:20220118T151746Z
UID:5407-1644624000-1644710399@www.visitlakecity.org
SUMMARY:Winter Fun in Frontenac
DESCRIPTION:Ready for some winter family fun in beautiful Frontenac???\nJust a couple minutes north of Lake City\, On February 12th\, The Frontenac Sportsman Club will hold its 38th annual ice fishing contest from 1-4pm\, and Frontenac State Park will host a Candle Light Ski / Walk from 5:00 to 8:00pm.
URL:https://www.visitlakecity.org/event/5407/
LOCATION:Frontenac Sportsman’s Club\, 30301 Territorial Road\, Lake City\, 55041\, United States
ATTACH;FMTTYPE=image/jpeg:https://www.visitlakecity.org/wp-content/uploads/2022/01/Frontenac-sportsman-e1642518999872.jpg
END:VEVENT
BEGIN:VEVENT
DTSTART;TZID=America/Chicago:20220212T110000
DTEND;TZID=America/Chicago:20220212T140000
DTSTAMP:20260419T110213
CREATED:20220118T152937Z
LAST-MODIFIED:20220208T224121Z
UID:5413-1644663600-1644674400@www.visitlakecity.org
SUMMARY:Fired Up! Fat Tire Ride
DESCRIPTION:Join us on February 12th from 10:30-2pm for a Fat Tire Bike ride on a fantastic groomed course!\nThis tour has a flexible course\, anywhere between 3-18 miles (or even more if you’re up for it!). The tour is at the Jewel Golf Course\, with 6 miles of groomed trail over the golf cart paths. There are also multiple miles of trail in some neighboring city property and decommissioned mine.\nThe course will be open from 11 am – 2 pm\, ride as much or as little as you like!\nThe event is free this year but a waiver must be signed at the Jewel Clubhouse before you can ride.\nA staggered start will begin at 10:30 to help maintain the integrity of the groomed trails.
URL:https://www.visitlakecity.org/event/fired-up-fat-tire-ride/
LOCATION:Jewel Golf Course\, 9203\, 1900 Clubhouse Dr\, Lake City\, MN\, United States
ATTACH;FMTTYPE=image/jpeg:https://www.visitlakecity.org/wp-content/uploads/2022/01/fat.jpg
ORGANIZER;CN="Lake City Chamber of Commerce":MAILTO:chamberevents@lakecity.org
END:VEVENT
BEGIN:VEVENT
DTSTART;VALUE=DATE:20220219
DTEND;VALUE=DATE:20220220
DTSTAMP:20260419T110213
CREATED:20220104T151652Z
LAST-MODIFIED:20220104T151652Z
UID:5322-1645228800-1645315199@www.visitlakecity.org
SUMMARY:54th Annual Ice Fishing Contest
DESCRIPTION:The Lake City Sportsman’s Club presents its 54th Annual Ice Fishing Contest on Saturday Feb 19th\, 2022!\nKids Contest 11-12:30\nMain Contest 1-3:30\nBingo 11-1\nPaddlewheel 2-4\nSilent Auction 11-4:30\nLive Auction 5:30\nFood Served ALL DAY! \nAlso: Cash Raffle and more!!! \n*Valid Fishing License Required to participate in contest
URL:https://www.visitlakecity.org/event/54th-annual-ice-fishing-contest/
LOCATION:Lake City Sportsman’s Club\, 2200 S Oak St.\, Lake City\, MN\, 55041
ATTACH;FMTTYPE=image/jpeg:https://www.visitlakecity.org/wp-content/uploads/2022/01/sportsmans-contest-e1641309394835.jpeg
END:VEVENT
BEGIN:VEVENT
DTSTART;TZID=America/Chicago:20220226T100000
DTEND;TZID=America/Chicago:20220226T170000
DTSTAMP:20260419T110213
CREATED:20220119T195229Z
LAST-MODIFIED:20220119T201245Z
UID:5419-1645869600-1645894800@www.visitlakecity.org
SUMMARY:Vintage Snowmobile Show and Ride
DESCRIPTION:Come to Lake City Golf for the 12th annual Vintage Snowmobile Show and Ride.\nSaturday Feb 26\, 2022 10am-5pm\nThis event is sponsored by Lake City Golf and the Wells Creek Riders Snowmobile Club\nRegistration at 10am\nScenic Ride at 2pm\nAwards Ceremony at 3pm \n 
URL:https://www.visitlakecity.org/event/vintage-snowmobile-show-and-ride/
LOCATION:Lake City Golf\, 33587 Lakeview Drive\, Lake City\, MN\, 55041\, United States
ATTACH;FMTTYPE=image/jpeg:https://www.visitlakecity.org/wp-content/uploads/2022/01/vintage-sleds-e1642621889549.jpg
END:VEVENT
BEGIN:VEVENT
DTSTART;TZID=America/Chicago:20220226T133000
DTEND;TZID=America/Chicago:20220226T170000
DTSTAMP:20260419T110213
CREATED:20220223T131515Z
LAST-MODIFIED:20220223T131515Z
UID:5578-1645882200-1645894800@www.visitlakecity.org
SUMMARY:Lake City Incorporation Day
DESCRIPTION:Saturday\, February 26\, 2022 is the 150th Anniversary of the Incorporation of Lake City!  To celebrate this momentous occasion\, the 150th Sesquicentennial Committee is inviting the community to the Celebration!  Please join us on Saturday at the High School for an afternoon of events. From 1:30 to 2:00 p.m. will be historical displays and music in the foyer of the High School.  At 2:00 p.m. the program will begin and will include Mayor Nichols and Representative Angie Craig\, music by the high school band and choir\, an amazing slideshow presentation\, readings and so much more.  After the program\, from approximately 3:30 to 4:30 p.m. you will be able to continue to enjoy the historical displays in the High School foyer that were put together by 15 different individuals and organizations of Lake City.  Also\, at 1:45 you will hear the ringing of the City Hall bells and at 4:30 we invite you to join City Hall and the Churches of Lake City in ringing the bells by ringing a bell of your own.
URL:https://www.visitlakecity.org/event/lake-city-incorporation-day/
LOCATION:Lincoln High School\, 300 Garden St\, Lake City\, 55041\, United States
ATTACH;FMTTYPE=image/png:https://www.visitlakecity.org/wp-content/uploads/2022/02/Screen-Shot-2022-02-23-at-7.14.15-AM-e1645622096110.png
END:VEVENT
BEGIN:VEVENT
DTSTART;TZID=America/Chicago:20220226T170000
DTEND;TZID=America/Chicago:20220226T200000
DTSTAMP:20260419T110213
CREATED:20220105T152244Z
LAST-MODIFIED:20220215T184729Z
UID:5334-1645894800-1645905600@www.visitlakecity.org
SUMMARY:Live Music with Shawn Ogden
DESCRIPTION:Live music and smoked meats? What could be better?\nJoin us as we welcome Shawn Ogden on Sat\, Feb. 26th. Listen as Shawn’s rich vocal tone fills the room with your favorite country/rock tunes.\nCome for the ribs\, stay for the music! Music begins at 5pm.
URL:https://www.visitlakecity.org/event/live-music-with-shawn-ogden/
LOCATION:Kelly’s Lake House\, 1702 N Lakeshore Dr\, Lake City\, MN\, 55041
ATTACH;FMTTYPE=image/jpeg:https://www.visitlakecity.org/wp-content/uploads/2022/01/shawn-ogden.jpg
END:VEVENT
END:VCALENDAR