BEGIN:VCALENDAR
VERSION:2.0
PRODID:-//Visit Lake City MN - ECPv6.15.20//NONSGML v1.0//EN
CALSCALE:GREGORIAN
METHOD:PUBLISH
X-WR-CALNAME:Visit Lake City MN
X-ORIGINAL-URL:https://www.visitlakecity.org
X-WR-CALDESC:Events for Visit Lake City MN
REFRESH-INTERVAL;VALUE=DURATION:PT1H
X-Robots-Tag:noindex
X-PUBLISHED-TTL:PT1H
BEGIN:VTIMEZONE
TZID:America/Chicago
BEGIN:DAYLIGHT
TZOFFSETFROM:-0600
TZOFFSETTO:-0500
TZNAME:CDT
DTSTART:20210314T080000
END:DAYLIGHT
BEGIN:STANDARD
TZOFFSETFROM:-0500
TZOFFSETTO:-0600
TZNAME:CST
DTSTART:20211107T070000
END:STANDARD
BEGIN:DAYLIGHT
TZOFFSETFROM:-0600
TZOFFSETTO:-0500
TZNAME:CDT
DTSTART:20220313T080000
END:DAYLIGHT
BEGIN:STANDARD
TZOFFSETFROM:-0500
TZOFFSETTO:-0600
TZNAME:CST
DTSTART:20221106T070000
END:STANDARD
BEGIN:DAYLIGHT
TZOFFSETFROM:-0600
TZOFFSETTO:-0500
TZNAME:CDT
DTSTART:20230312T080000
END:DAYLIGHT
BEGIN:STANDARD
TZOFFSETFROM:-0500
TZOFFSETTO:-0600
TZNAME:CST
DTSTART:20231105T070000
END:STANDARD
END:VTIMEZONE
BEGIN:VEVENT
DTSTART;VALUE=DATE:20220428
DTEND;VALUE=DATE:20220621
DTSTAMP:20260419T175455
CREATED:20220315T133846Z
LAST-MODIFIED:20220607T173722Z
UID:5705-1651104000-1655769599@www.visitlakecity.org
SUMMARY:We Are Water Exhibit
DESCRIPTION:Join the Lake Pepin Legacy Alliance in celebrating the We Are Water exhibit in Lake City\, Minnesota. \n\n\nExhibition on view April 28 – June 20\nThe Lake Pepin Legacy Alliance is proud to be a host partner for the We Are Water MN exhibition at the Lake City Public Library. This traveling exhibition examines water issues statewide and in local communities through personal stories\, histories\, and scientific information. It strengthens Minnesotans’ relationships with water\, exposes visitors to new perspectives\, and increases participation in water stewardship activities. \nRelated Events\nTogether with community partners\, LPLA is excited to provide a variety of programming related to the exhibition during its time in Lake City. \nLearn more at https://www.lakepepinlegacyalliance.org/we-are-water-mn \n\n\n\n\n\n\n\n\n\n \n \n\n\n\n\nWe Are Water MN is led by the Minnesota Humanities Center in partnership with the Minnesota Pollution Control Agency; the Minnesota Historical Society; the Minnesota Departments of Agriculture\, Health\, and Natural Resources; and University of Minnesota Extension. We Are Water MN is funded in part with money from the Clean Water\, Land\, & Legacy Fund that was created with the vote of the people of Minnesota on November 4\, 2008 and by the National Endowment for the Humanities. \n\n\n\n\n\n\n\n\n\n\n\n\n\n\n\n\n\n\n\n\n\n\n\n\n\n\n\n\n\n\n\n\n\n\n\n\n\n\n\n \n\n\n\n\n\n\n\n\n\n\n\n\n\n\n\n\n\n\n\n\n\n\n\n\n\n\n\n\n\n\n\n\n\n\n  \n  \n 
URL:https://www.visitlakecity.org/event/we-are-water-opening-night/
LOCATION:Lake City Public Library\, 201 S High St\, Lake City\, 55041\, United States
ATTACH;FMTTYPE=image/jpeg:https://www.visitlakecity.org/wp-content/uploads/2022/03/WeAreWaterMN_StoryMap.jpeg
END:VEVENT
BEGIN:VEVENT
DTSTART;TZID=America/Chicago:20220604T063000
DTEND;TZID=America/Chicago:20220604T170000
DTSTAMP:20260419T175455
CREATED:20220326T152840Z
LAST-MODIFIED:20220326T152840Z
UID:5784-1654324200-1654362000@www.visitlakecity.org
SUMMARY:15th Annual Tour de Pepin
DESCRIPTION:Held June 4th 2022\, Tour de Pepin offers bicyclists from amateur to expert an opportunity to experience Lake Pepin from the saddle. The Lake City Chamber of Commerce hosts this supported ride\, which features a dozen manned rest areas with food and water and your choice of routes. Choose the 32 or 50 mile rides to Stockholm\, Wisconsin and get transported back to Lake City by bus or boat\, or cruise the 72-mile full loop all the way around the lake!\nFeel ambitious? Well\, we also have a Century Ride option!\nThe event wraps up with a party in Ohuta Park where you can unwind with live music\, food trucks\, and beverages.\nStay tuned for more info!\nThis ride raises funds for the Lake Pepin Legacy Alliance \n(651) 345-4123\nhttps://lakecity.org/news-events/tour-de-pepin/
URL:https://www.visitlakecity.org/event/15th-annual-tour-de-pepin/
LOCATION:Ohuta Beach\, 100 Park Street\, Lake City\, MN\, 55041\, United States
ATTACH;FMTTYPE=image/jpeg:https://www.visitlakecity.org/wp-content/uploads/2021/10/LakeCity-bike-program.jpg
ORGANIZER;CN="Lake City Chamber of Commerce":MAILTO:chamberevents@lakecity.org
END:VEVENT
BEGIN:VEVENT
DTSTART;VALUE=DATE:20220611
DTEND;VALUE=DATE:20220613
DTSTAMP:20260419T175455
CREATED:20220607T120521Z
LAST-MODIFIED:20220607T120522Z
UID:6171-1654905600-1655078399@www.visitlakecity.org
SUMMARY:Catamaran Regatta
DESCRIPTION:It’s RACE WEEK! CRAW is back in action this weekend at a BRAND NEW racing location – Lake Pepin\, MN. We can’t wait to see what the new venue has in store for us at the Mrs. Hippie Regatta!\nCRAW Catamaran Regatta coming to Lake Pepin June 11-12 2022.\nHosted by Lake City Yacht Club.
URL:https://www.visitlakecity.org/event/catamaran-regatta/
LOCATION:Lake City Yacht Club\, 201 South Franklin Street\, Lake City\, MN\, 55041\, United States
ATTACH;FMTTYPE=image/jpeg:https://www.visitlakecity.org/wp-content/uploads/2022/06/mrs-hippie-e1654603506176.jpeg
END:VEVENT
BEGIN:VEVENT
DTSTART;TZID=America/Chicago:20220618T080000
DTEND;TZID=America/Chicago:20220618T170000
DTSTAMP:20260419T175455
CREATED:20220618T131355Z
LAST-MODIFIED:20220618T131355Z
UID:6243-1655539200-1655571600@www.visitlakecity.org
SUMMARY:Pale Ales Bluegrass Band
DESCRIPTION:Saturday July 23\, from 7-10pm at The Lake City Sportsman’s Club!\nJoin the Lake City 150th Celebration with Pale Ales Bluegrass Band after the Lakeview Encampment event!
URL:https://www.visitlakecity.org/event/pale-ales-bluegrass-band/
LOCATION:Lake City Sportsman’s Club\, 2200 S Oak St.\, Lake City\, MN\, 55041
ATTACH;FMTTYPE=image/jpeg:https://www.visitlakecity.org/wp-content/uploads/2022/06/Pale-Ales-Bluegrass-Band.jpg
END:VEVENT
BEGIN:VEVENT
DTSTART;TZID=America/Chicago:20220618T100000
DTEND;TZID=America/Chicago:20220618T180000
DTSTAMP:20260419T175455
CREATED:20220607T120820Z
LAST-MODIFIED:20220607T120821Z
UID:6174-1655546400-1655575200@www.visitlakecity.org
SUMMARY:Kernza Fest
DESCRIPTION:See\, taste\, and learn about innovations in water-healthy agriculture at Kernza Fest\, a first-of-its kind event by the Lake Pepin Legacy Alliance! Kernza is the first commercially developed perennial grain crop that not only benefits the soil\, but helps clean water with its deep root system. A cousin to wheat\, Kernza was developed by The Land Institute as a revolution in agriculture\, and is beginning to become discovered by chefs\, bakers\, and brewers. Kernza Fest will explore the ways this grain can be used in sustainable and delicious ways – with expert panels\, chef demos\, tastings (additional cost)\, specialty vendors\, kids activities and more!\nWho/what to expect at Kernza Fest:\n• Cooking with Kernza demos with Chefs Jametta Raspberry and Gustavo Romero\n• Expert panel speakers\n• Live music by the Roe Family Singers\n• Paper Plains\, an interactive experience in papermaking and native prairie planting\n• Free water testing with MPCA\, MN Dept of Agriculture and MN Well Owners Association\n• Shopping at the Marketplace with vendors and exhibitors: https://www.lakepepinlegacyalliance.org/vendors\n\nGeneral admission to Kernza Fest is free for all ages. Entrance to the Tasting Tent within the festival is $10. We encourage registration to help us plan!\n\nTasting Tent at Kernza Fest:\nSample and sip different food and beverages made from Kernza inside the Tasting Tent. Open at 3 pm to those with wristbands ($10). Save time at the door by purchasing your wristband in advance! Alcohol available to 21+ only (show ID when picking up wristband). Check the “Tasting Tent at Kernza Fest” box on the registration page linked above to pre-pay for your wristband.\nTasting Tent participants include:\n• Baker’s Field Flour & Bread (Minneapolis\, Minnesota – Kernza Bread\n• Bang Brewing (St. Paul\, Minnesota – Kernza Beer\n• Chef Judy Krohn (Stockholm\, Wisconsin) – Kernza Grain Salad\n• Forager Brewing (Rochester\, Minnesota) – Beer\n• John the Baptist Beverage Company (Lake City\, Minnesota) – Kombucha\n• Patagonia Provisions (Sausalito\, California) – Kernza Food\n• Rustic Coffeehouse (Lake City\, Minnesota) – Small bites
URL:https://www.visitlakecity.org/event/kernza-fest/
LOCATION:Ohuta Beach\, 100 Park Street\, Lake City\, MN\, 55041\, United States
ATTACH;FMTTYPE=image/jpeg:https://www.visitlakecity.org/wp-content/uploads/2022/06/Kernza-e1654603690872.jpeg
END:VEVENT
BEGIN:VEVENT
DTSTART;TZID=America/Chicago:20220621T190000
DTEND;TZID=America/Chicago:20220621T203000
DTSTAMP:20260419T175455
CREATED:20220607T121239Z
LAST-MODIFIED:20220607T121239Z
UID:6177-1655838000-1655843400@www.visitlakecity.org
SUMMARY:Ralph Samuelson: The Father of Water Skiing
DESCRIPTION:Join us for the debut of a new film followed by Q&A with filmmaker Ben Threinen. It tells the story of how\, with a homemade pair of skis and daredevil determination\, Ralph Samuelson made history on Lake Pepin. Ralph grew up right here in Lake City and invented a sport that is enjoyed worldwide. You’ll meet him in this 33-minute documentary film based on Gregor Ziemer’s book A Daredevil & Two Boards. Presented by the Lake City Historical Society in partnership with the Lake City Public Library. Suggested donation is $10 for adults and kids come free. All proceeds to benefit the Lake City Historical Society.
URL:https://www.visitlakecity.org/event/ralph-samuelson-the-father-of-water-skiing/
LOCATION:Lincoln High School\, 300 Garden St\, Lake City\, 55041\, United States
ATTACH;FMTTYPE=image/jpeg:https://www.visitlakecity.org/wp-content/uploads/2022/06/The-Father-e1654603942166.jpeg
END:VEVENT
BEGIN:VEVENT
DTSTART;TZID=America/Chicago:20220622T183000
DTEND;TZID=America/Chicago:20220703T163000
DTSTAMP:20260419T175455
CREATED:20220618T130303Z
LAST-MODIFIED:20220618T130303Z
UID:6233-1655922600-1656865800@www.visitlakecity.org
SUMMARY:Historic Walking Tours
DESCRIPTION:Here’s your chance to see beautiful Lake City with informative tour guides.\nLearn the history of some of our city’s most memorable sites and see Lake City from new perspectives.\nDon’t miss it!
URL:https://www.visitlakecity.org/event/historic-walking-tours/
LOCATION:Lake City\, MN\, 55041\, United States
ATTACH;FMTTYPE=image/png:https://www.visitlakecity.org/wp-content/uploads/2022/06/Historic-Walking-Tours-2022.png
END:VEVENT
END:VCALENDAR